BEGIN:VCALENDAR
VERSION:2.0
PRODID:-//eventon.com NONSGML v1.0//EN
CALSCALE:GREGORIAN
METHOD:PUBLISH
BEGIN:VEVENT
UID:69e845e1badfc
DTSTAMP:20260422T035201Z
DTSTART:20251122T090000Z
DTEND:20251122T110000Z
LOCATION:Bibliothèque Rue de Bordeaux
SUMMARY:SOS méditerranée
DESCRIPTION:Projection du film documentaire Mothership\,  présentée par l
 es bénévoles de SOS Méditerranée. Réalisé à bord de l’Ocean Viking
 \,  ce film retrace le travail des marins-sauveteurs et donne voix aux parc
 ours des rescapés\,  notamment des femmes et des enfants. Informations et 
 réservations : Médiathèque Louis Aragon &#8211; 03.82.25.23.58 &#8211; m
 ediatheque.louisaragon@mairie-montsaintmartin.fr\nhttps://mairie-montsaintm
 artin.fr/events/sosmediterrannee/
URL:https://mairie-montsaintmartin.fr/events/sosmediterrannee/
END:VEVENT
END:VCALENDAR