BEGIN:VCALENDAR
VERSION:2.0
PRODID:-//eventon.com NONSGML v1.0//EN
CALSCALE:GREGORIAN
METHOD:PUBLISH
BEGIN:VEVENT
UID:69ec20cea6249
DTSTAMP:20260425T020254Z
DTSTART:20250528T160000Z
DTEND:20250528T170000Z
LOCATION:Espace AimÃ© CÃ©saire 19 Boulevard de Metz
SUMMARY:Taxe dâ€™enlÃ¨vement dâ€™ordures mÃ©nagÃ¨res incitative - RÃ©union publique
DESCRIPTION:Lâ€™AgglomÃ©ration du Grand Longwy vous invite Ã  une rÃ©union 
 publique dâ€™information sur la mise en place de la Taxe dâ€™EnlÃ¨vement dâ
 €™Ordures MÃ©nagÃ¨res incitative (TEOMI). Cette rencontre se tiendra le mer
 credi 28 mai Ã  18h Ã  lâ€™espace AimÃ© CÃ©saire Ã  Mont-Saint-Martin. Lâ€™
 objectif est de vous prÃ©senter les nouvelles conditions de collecte[..]\nh
 ttps://mairie-montsaintmartin.fr/events/teomi/
URL:https://mairie-montsaintmartin.fr/events/teomi/
END:VEVENT
END:VCALENDAR