BEGIN:VCALENDAR
VERSION:2.0
PRODID:-//eventon.com NONSGML v1.0//EN
CALSCALE:GREGORIAN
METHOD:PUBLISH
BEGIN:VEVENT
UID:69eb71bb6b879
DTSTAMP:20260424T133555Z
DTSTART:20241214T093000Z
DTEND:20241214T101500Z
LOCATION:Médiathèque Louis Aragon Centre socio-culturel Maurice Kriegel-Valrimont\,  10 rue de Bordeaux
SUMMARY:Songe d'une nuit de Noël
DESCRIPTION:À l’approche des fêtes\,  le pays des lutins est en efferve
 scence ! Mais Tinluyan est très inquiet\,  la magie de Noël a&#8230; disp
 arue ! Accompagnez le dans un voyage féerique à la recherche de douceur e
 t de poésie. Une aventure unique avec des contes\,  des histoires\,  des m
 arionnettes et des[..]\nhttps://mairie-montsaintmartin.fr/events/songe/
URL:https://mairie-montsaintmartin.fr/events/songe/
END:VEVENT
END:VCALENDAR