BEGIN:VCALENDAR
VERSION:2.0
PRODID:-//eventon.com NONSGML v1.0//EN
CALSCALE:GREGORIAN
METHOD:PUBLISH
BEGIN:VEVENT
UID:69e91ac1c9ca6
DTSTAMP:20260422T190017Z
DTSTART:20250531T123000Z
DTEND:20250601T000000Z
LOCATION:Parc Municipal Frédéric Brigidi  Boulevard de Metz
SUMMARY:Journée & Nuit de l’Astronomie
DESCRIPTION:Journée &amp; Nuit de l’Astronomie Samedi 31 mai 2025 Églis
 e romane &amp; Prieuré Entrée libre et gratuite Venez nombreux découvrir
  les mystères du cosmos ! ☀️ 14h30 – Observation du Soleil Grâce à
  une lunette solaire\,  le club Astroloisirs vous propose une observation d
 u Soleil en toute sécurité. 📸 Atelier[..]\nhttps://mairie-montsaintmar
 tin.fr/events/nde2025/
URL:https://mairie-montsaintmartin.fr/events/nde2025/
END:VEVENT
END:VCALENDAR