BEGIN:VCALENDAR
VERSION:2.0
PRODID:-//eventon.com NONSGML v1.0//EN
CALSCALE:GREGORIAN
METHOD:PUBLISH
BEGIN:VEVENT
UID:69eb5dc1b37ea
DTSTAMP:20260424T121041Z
DTSTART:20241213T183000Z
DTEND:20241213T213000Z
LOCATION:Espace Aimé Césaire 19 Boulevard de Metz
SUMMARY:Concerts aux couleurs locales
DESCRIPTION:Marché de Noël devant l&rsquo;espace Aimé Césaire de 15H à
  20H Apéro Musical à 19H30 avec Didier Boutteville-Kraemer (Auteur Compos
 iteur Interprète) Sterpi&rsquo;s Angel (Soul &amp; Metal unplugged) Initiu
 m (Rock Alternatif) Entrée Libre sur réservation Buvette et petite restau
 ration Organisé par la ville de Mont-Saint-Martin en coproduction avec Yoo
 ups ⚠ En[..]\nhttps://mairie-montsaintmartin.fr/events/1312/
URL:https://mairie-montsaintmartin.fr/events/1312/
END:VEVENT
END:VCALENDAR