BEGIN:VCALENDAR
VERSION:2.0
PRODID:-//eventon.com NONSGML v1.0//EN
CALSCALE:GREGORIAN
METHOD:PUBLISH
BEGIN:VEVENT
UID:69eb56db00c24
DTSTAMP:20260424T114115Z
DTSTART:20241213T140000Z
DTEND:20241213T190000Z
LOCATION:Espace Aimé Césaire 19 Boulevard de Metz
SUMMARY:Marché de Noël & concerts
DESCRIPTION:Marché de Noël devant l&rsquo;espace Aimé Césaire (parc mun
 icipal Frédéric Brigidi) Des associations vous proposeront de l&rsquo;art
 isanat : savons\,  poteries\,  tricots\,  travaux manuels\,  objets de bois
 \,  miel\,  peluches animalières&#8230; Et vous y trouverez également : d
 es bières artisanales\,  des marrons grillés\,  des crêpes\,  du vin cha
 ud\,  des pâtisseries\,  des boîtes[..]\nhttps://mairie-montsaintmartin.f
 r/events/noel/
URL:https://mairie-montsaintmartin.fr/events/noel/
END:VEVENT
END:VCALENDAR