BEGIN:VCALENDAR
VERSION:2.0
PRODID:-//eventon.com NONSGML v1.0//EN
CALSCALE:GREGORIAN
METHOD:PUBLISH
BEGIN:VEVENT
UID:69e52b5d64fc3
DTSTAMP:20260419T192205Z
DTSTART:20240416T073000Z
DTEND:20240525T160000Z
LOCATION:Bibliothèque Rue de Bordeaux
SUMMARY:Exposition - Didier Delbary
DESCRIPTION:Passionné de photos de portraits et de paysages\,  Didier Delb
 ary nous présente un panel de ses différents voyages en Écosse.\nhttps:/
 /mairie-montsaintmartin.fr/events/delbary/
URL:https://mairie-montsaintmartin.fr/events/delbary/
END:VEVENT
END:VCALENDAR