BEGIN:VCALENDAR
VERSION:2.0
PRODID:-//eventon.com NONSGML v1.0//EN
CALSCALE:GREGORIAN
METHOD:PUBLISH
BEGIN:VEVENT
UID:69ea03567d923
DTSTAMP:20260423T113238Z
DTSTART:20240323T093000Z
DTEND:20240323T110000Z
LOCATION:Erckmann-Chatrian Rue Jeanne d'Arc
SUMMARY:Réunion de quartier : Piedmont
DESCRIPTION:La municipalité vous invite : réunion de quartier &#8211; PIE
 DMONT Samedi 23 mars à 10H30 à la salle Edmond Mignon Pour quoi faire ? C
 ommuniquer sur les projets de la Ville : expliquer et détailler les action
 s de la municipalité. Apporter des réponses aux problématiques locales :
  les sujets de[..]\nhttps://mairie-montsaintmartin.fr/events/reunion-de-qua
 rtier-piedmont/
URL:https://mairie-montsaintmartin.fr/events/reunion-de-quartier-piedmont/
END:VEVENT
END:VCALENDAR