BEGIN:VCALENDAR
VERSION:2.0
PRODID:-//eventon.com NONSGML v1.0//EN
CALSCALE:GREGORIAN
METHOD:PUBLISH
BEGIN:VEVENT
UID:69e89ede78266
DTSTAMP:20260422T101142Z
DTSTART:20240413T090000Z
DTEND:20240413T120000Z
LOCATION:
SUMMARY:Nettoyage de Printemps
DESCRIPTION:Participez aux actions mises en place par la ville de Mont-Sain
 t-Martin : des gestes forts pour répondre aux incivilités : https://mairi
 e-montsaintmartin.fr/villepropre/ Nettoyage de Printemps &#8211; SAMEDI 13 
 AVRIL 2024 &#8211; 9H00/12h00 Points de RDV : CENTRE : Carrefour rue J. Jau
 rès et M. Berthelot CENTRE : Avenue de l&rsquo;Europe PLATEAU[..]\nhttps:/
 /mairie-montsaintmartin.fr/events/nettoyage-de-printemps/
URL:https://mairie-montsaintmartin.fr/events/nettoyage-de-printemps/
END:VEVENT
END:VCALENDAR