BEGIN:VCALENDAR
VERSION:2.0
PRODID:-//eventon.com NONSGML v1.0//EN
CALSCALE:GREGORIAN
METHOD:PUBLISH
BEGIN:VEVENT
UID:69e758ee323a8
DTSTAMP:20260421T110102Z
DTSTART:20240130T080000Z
DTEND:20240302T160000Z
LOCATION:Bibliothèque Rue de Bordeaux
SUMMARY:Exposition de Carnaval - Michel Zeni
DESCRIPTION:L’exposition sera ouverte au public à la médiathèque Louis
  Aragon du 30 janvier au 2 mars 2024.\nhttps://mairie-montsaintmartin.fr/ev
 ents/exposition-m-zeni/
URL:https://mairie-montsaintmartin.fr/events/exposition-m-zeni/
END:VEVENT
END:VCALENDAR