BEGIN:VCALENDAR
VERSION:2.0
PRODID:-//eventon.com NONSGML v1.0//EN
CALSCALE:GREGORIAN
METHOD:PUBLISH
BEGIN:VEVENT
UID:69e937ff77004
DTSTAMP:20260422T210503Z
DTSTART:20231220T140000Z
DTEND:20231220T190000Z
LOCATION:Mairie de Mont-Saint-Martin Boulevard du 08 Mai 1945
SUMMARY:Marché de Nöel
DESCRIPTION:Mercredi 20 décembre se tiendra le marché de Nöel à Mont-Sa
 int-Martin sur le parvis de l&rsquo;hôtel de ville Marché artisanal : nic
 hoirs à oiseaux\,  bougies\,  poteries\,  tricots\,  fleurs&#8230; Vin cha
 ud\,  jus de pomme\,  bière artisanale\,  crêpes\,  marrons chauds&#8230;
  Et la présence des Ideas Box Avec Gégène\,  crieur public et Echo[..]\n
 https://mairie-montsaintmartin.fr/events/marche-de-noel-2023/
URL:https://mairie-montsaintmartin.fr/events/marche-de-noel-2023/
END:VEVENT
END:VCALENDAR