BEGIN:VCALENDAR
VERSION:2.0
PRODID:-//eventon.com NONSGML v1.0//EN
CALSCALE:GREGORIAN
METHOD:PUBLISH
BEGIN:VEVENT
UID:69e7b2b86e80e
DTSTAMP:20260421T172408Z
DTSTART:20230520T100000Z
DTEND:20230521T153000Z
LOCATION:Parc Municipal Frédéric Brigidi  Boulevard de Metz
SUMMARY:Fête de la nature
DESCRIPTION:11h : Inauguration à l&rsquo;hôtel de ville de l&rsquo;œuvre
  réalisée avec le CME et le CMJ 12h : Inauguration au Prieuré de la 1èr
 e fête de la Nature à Mont-Saint-Martin De 12h à 18h : Marché fermier a
 vec la ferme Schmitt Animations avec : Virginie &#8211; création artistiqu
 e\,  Cécilia &#8211;[..]\nhttps://mairie-montsaintmartin.fr/events/fetedel
 anature/
URL:https://mairie-montsaintmartin.fr/events/fetedelanature/
END:VEVENT
END:VCALENDAR