BEGIN:VCALENDAR
VERSION:2.0
PRODID:-//eventon.com NONSGML v1.0//EN
CALSCALE:GREGORIAN
METHOD:PUBLISH
BEGIN:VEVENT
UID:69ecac8c2c127
DTSTAMP:20260425T115908Z
DTSTART:20230128T080000Z
DTEND:20230228T160000Z
LOCATION:Bibliothèque Rue de Bordeaux
SUMMARY:Exposition dédiée aux mangas de Sofia Fahem
DESCRIPTION:Exposition dédiée aux mangas de Sofia Fahem &nbsp;\nhttps://m
 airie-montsaintmartin.fr/events/sofia-fahem/
URL:https://mairie-montsaintmartin.fr/events/sofia-fahem/
END:VEVENT
END:VCALENDAR