BEGIN:VCALENDAR
VERSION:2.0
PRODID:-//eventon.com NONSGML v1.0//EN
CALSCALE:GREGORIAN
METHOD:PUBLISH
BEGIN:VEVENT
UID:69ea6613abb22
DTSTAMP:20260423T183355Z
DTSTART:20220917T180000Z
DTEND:20220917T200000Z
LOCATION:Espace Aimé Césaire 19 Boulevard de Metz
SUMMARY:Concert de Christophe Astofli dans le cadre des journées du Patrimoine
DESCRIPTION:SAMEDI 17 SEPTEMBRE à l’Espace Aimé Césaire Organisé par 
 la ville de Mont-Saint-Martin Entrée libre &#8211; 20H Concert de Christop
 he ASTOLFI (jazz manouche) D’origine hussingeoise\,  guitariste de jazz d
 epuis le début des années 1990\,  Christophe Astolfi représente un patri
 moine certain de notre Pays Haut qu’il a incarné dans ses différentes[.
 .]\nhttps://mairie-montsaintmartin.fr/events/journees-europeennes-du-patrim
 oine-1-2022/
URL:https://mairie-montsaintmartin.fr/events/journees-europeennes-du-patrimoine-1-2022/
END:VEVENT
END:VCALENDAR