BEGIN:VCALENDAR
VERSION:2.0
PRODID:-//eventon.com NONSGML v1.0//EN
CALSCALE:GREGORIAN
METHOD:PUBLISH
BEGIN:VEVENT
UID:69ea65658c47b
DTSTAMP:20260423T183101Z
DTSTART:20220918T080000Z
DTEND:20220918T160000Z
LOCATION:Église Romane 1 Cité du Prieuré
SUMMARY:Journées Européennes du Patrimoine 2/2
DESCRIPTION:SAMEDI 17 SEPTEMBRE Concert de Christophe ASTOLFI à l’Espace
  Aimé Césaire Organisé par la ville de Mont-Saint-Martin https://mairie-
 montsaintmartin.fr/events/journees-europeennes-du-patrimoine-1-2022/ DIMANC
 HE 18 SEPTEMBRE Organisé par les Amis de l’Eglise Romane et la ville de 
 Mont-Saint-Martin Comme les années précédentes\,  les Amis de l&rsquo;é
 glise romane et la Municipalité de Mont-Saint-Martin s&rsquo;associent pou
 r proposer[..]\nhttps://mairie-montsaintmartin.fr/events/journees-europeenn
 es-du-patrimoine-2-2022/
URL:https://mairie-montsaintmartin.fr/events/journees-europeennes-du-patrimoine-2-2022/
END:VEVENT
END:VCALENDAR