BEGIN:VCALENDAR
VERSION:2.0
PRODID:-//eventon.com NONSGML v1.0//EN
CALSCALE:GREGORIAN
METHOD:PUBLISH
BEGIN:VEVENT
UID:69e8603e98968
DTSTAMP:20260422T054430Z
DTSTART:20220403T203000Z
DTEND:20220403T230000Z
LOCATION:Terres de Mercy 61 bis rue de la Fôret
SUMMARY:5ème Trail Daniel Feite de Mont-Saint-Martin
DESCRIPTION:9h30 &#8211; 20km Trail 9h45 &#8211; Course enfant 10h00 &#8211
 ; 10km Trail 10h00 &#8211; Marche « Parcours du Coeur » TRAIL : Le parc
 ours est digne d’un vrai trail avec des côtes à très fort dénivelé e
 t des descentes\,  le tout à 99% en forêt\,  de très beaux paysages et u
 n passage[..]\nhttps://mairie-montsaintmartin.fr/events/5emetrailurbain/
URL:https://mairie-montsaintmartin.fr/events/5emetrailurbain/
END:VEVENT
END:VCALENDAR