BEGIN:VCALENDAR
VERSION:2.0
PRODID:-//eventon.com NONSGML v1.0//EN
CALSCALE:GREGORIAN
METHOD:PUBLISH
BEGIN:VEVENT
UID:69e9027d9fd01
DTSTAMP:20260422T171645Z
DTSTART:20210707T180000Z
DTEND:20210819T180000Z
LOCATION:Église Romane 1 Cité du Prieuré
SUMMARY:Exposition "Frontières"
DESCRIPTION:FRONTIÈRES Cette installation est un cheminement entre différ
 entes mises en scènes de frontières réelles et imaginaires. À Mont-Sain
 t-Martin\,  aux confins de trois pays\,  Christine Muti et Elsa Berkowicz o
 nt voulu se confronter à leurs propres interprétations d’une notion qui
  ramène l’homme à ses origines\,  aux racines\,  à l’endroit d’où
  l’on[..]\nhttps://mairie-montsaintmartin.fr/events/exposition-frontieres
 /
URL:https://mairie-montsaintmartin.fr/events/exposition-frontieres/
END:VEVENT
END:VCALENDAR