BEGIN:VCALENDAR
VERSION:2.0
PRODID:-//eventon.com NONSGML v1.0//EN
CALSCALE:GREGORIAN
METHOD:PUBLISH
BEGIN:VEVENT
UID:69e78b4b566d6
DTSTAMP:20260421T143555Z
DTSTART:20210620T074200Z
DTEND:20210620T074200Z
LOCATION:
SUMMARY:Élections régionales et départementales
DESCRIPTION:Les prochaines élections Régionales et Départementales sont 
 prévues le 20 juin 2021 pour le 1er tour\,  et le 27 juin 2021 en cas de 2
 d tour. Pour pouvoir voter\,  il faut avoir au moins 18 ans la veille du 1e
 r tour\,  être de nationalité française\,  jouir de ses droits civils[..
 ]\nhttps://mairie-montsaintmartin.fr/events/elections-regionales-et-departe
 mentales/
URL:https://mairie-montsaintmartin.fr/events/elections-regionales-et-departementales/
END:VEVENT
END:VCALENDAR