BEGIN:VCALENDAR
VERSION:2.0
PRODID:-//eventon.com NONSGML v1.0//EN
CALSCALE:GREGORIAN
METHOD:PUBLISH
BEGIN:VEVENT
UID:69ecad38a2c64
DTSTAMP:20260425T120200Z
DTSTART:20200612T150000Z
DTEND:20200930T120000Z
LOCATION:
SUMMARY:Solos au Chœur
DESCRIPTION:Projet proposé par Éric Tellitocci\,  réalisateur au sein de
  l’association Les Films d’Été\,  à la ville de Mont-Saint-Martin : 
 une série de clips vidéo tournés dans l’église romane\,  autour de ci
 nq artistes originaires du Pays Haut. Outre le projet artistique en lui-mê
 me dans ce contexte où la culture est appelée[..]\nhttps://mairie-montsai
 ntmartin.fr/events/solos-au-choeur/
URL:https://mairie-montsaintmartin.fr/events/solos-au-choeur/
END:VEVENT
END:VCALENDAR