BEGIN:VCALENDAR
VERSION:2.0
PRODID:-//eventon.com NONSGML v1.0//EN
CALSCALE:GREGORIAN
METHOD:PUBLISH
BEGIN:VEVENT
UID:69e9d5acea73a
DTSTAMP:20260423T081748Z
DTSTART:20191111T184500Z
DTEND:20191111T200000Z
LOCATION:Boulevard du 8 mai 1945 Boulevard du 8 mai 1945
SUMMARY:Commémoration du 11 novembre
DESCRIPTION:18 H 45 : Rendez-vous au monument aux morts et à la paix (Atom
 e de la Paix) 19 H 00 : Début de la cérémonie Accueil des personnalités
 \,  des porte-drapeaux des Sociétés\,  accompagnés de larges délégatio
 ns\,  des organisations patriotiques\,  des enfants des écoles et des club
 s sportifs\,  de l&rsquo;Harmonie Fanfare[..]\nhttps://mairie-montsaintmart
 in.fr/events/11-11-2019/
URL:https://mairie-montsaintmartin.fr/events/11-11-2019/
END:VEVENT
END:VCALENDAR