BEGIN:VCALENDAR
VERSION:2.0
PRODID:-//eventon.com NONSGML v1.0//EN
CALSCALE:GREGORIAN
METHOD:PUBLISH
BEGIN:VEVENT
UID:69e8b97d40d71
DTSTAMP:20260422T120517Z
DTSTART:20191019T143000Z
DTEND:20191020T170000Z
LOCATION:
SUMMARY:Loto - Belote
DESCRIPTION:Le comité des fêtes du plateau Vivre et Sourire est heureux d
 ’organiser pour vous\,  dans votre quartier\,  salle Victor Hugo- Mont Sa
 int Martin UN CONCOURS DE BELOTE Le samedi 19 octobre 2019 à 14h30 En équ
 ipe – ouvert à tous – bons d’achats 1 lot à chaque participant UN L
 OTO[..]\nhttps://mairie-montsaintmartin.fr/events/loto-belote/
URL:https://mairie-montsaintmartin.fr/events/loto-belote/
END:VEVENT
END:VCALENDAR