BEGIN:VCALENDAR
VERSION:2.0
PRODID:-//eventon.com NONSGML v1.0//EN
CALSCALE:GREGORIAN
METHOD:PUBLISH
BEGIN:VEVENT
UID:69eb56027dbec
DTSTAMP:20260424T113738Z
DTSTART:20191007T084500Z
DTEND:20191011T161500Z
LOCATION:
SUMMARY:Semaine du goût
DESCRIPTION:Ateliers pour les classes de GS Maternelles sur la thématique 
 «Je fais un bon petit déjeuner» Ateliers pour les classes de CP\,  circu
 it d’ateliers nutritionnels «Animations de prévention et de promotion p
 our la santé» &#8211; Atelier sur la thématique du miel &#8211; Atelier 
 fruits et légumes de saison &#8211; Atelier[..]\nhttps://mairie-montsaintm
 artin.fr/events/semaine-du-gout/
URL:https://mairie-montsaintmartin.fr/events/semaine-du-gout/
END:VEVENT
END:VCALENDAR